Workbook
Name _ftn1: 'Форма 1_Анкета клиента'!$B$50
Name _ftnref1: 'Форма 1_Анкета клиента'!$AD$46

Sheet Форма 1_Анкета клиента
AZ1: Форма №1
AZ2: АНКЕТА КЛИЕНТА
A4: 1. | B4: Наименование организации | L4: ____________ | AM4: ИНН | AO4: ____________
L5: (наименование организации с указанием организационно-правовой формы)
B7: Режим налогообложения: | K7: Общий | O7: Специальный:
A9: 2. | B9: Главный бухгалтер | I9: ____________
I10: (Фамилия Имя Отчество)
B12: Телефон | F12: ____________ | R12: Мобильный телефон | Z12: 8 | AA12: ____________
A14: 3. | B14: В качестве представителя Заявителя и лица, ответственного за взаимодействие с ООО "Лизинг-Трейд", назначить:
B15: ____________ | AN15: должность | AR15: ____________
B16: (Фамилия Имя Отчество представителя Заявителя)
B18: Телефон | F18: ____________ | R18: Мобильный телефон | Z18: 8 | AA18: ____________
A20: 4. | B20: Цель приобретения имущества:
D22: Открытие нового направления бизнеса | T22: Расширение действующего бизнеса | AH22: Другое (указать цель)
D24: Обновление основных средств | T24: Для личной эксплуатации | AF24: ____________
A26: 5. | B26: Открытые расчетные счета организации
B28: Наименование банка | AF28: Номер счета
B30: 1. | C30: ____________ | AF30: № | AG30: ____________
B32: 2. | AF32: №
B34: 3. | AF34: №
B36: 4. | AF36: №
B38: 5. | AF38: №
A40: 6. | B40: Кредитная история
B41: № | C41: Лизинговая компания | AF41: Сумма, руб. | AS41: Дата завершения
B42: 1.
B43: 2.
B44: 3.
A45: 7. | B45: Укажите информацию о наличии основных средств для осуществления деятельности:
B46: Вид ОС по группам (спецтехника, оборудование, здание) | V46: Количество единиц | AA46: Общая остаточная стоимость, руб. | AL46: Собственник
A50: 8. | B50: Краткая характеристика деятельности, срок фактического видения бизнеса:
B51: Основной вид деятельности | R51: Срок фактического осуществления деятельности, (лет) | AA51: Доля в структуре выручки, % | AF51: Краткая характеристика процесса
B52: ____________
B55: Наличие прочих (дополнительных) видов деятельности (указать какие):
A57: 9. | B57: Текущие договоры (контракты) Заявителя:
B58: Заказчик/Покупатель (с указанием ИНН) | P58: Дата заключения договора | V58: Дата окончания договора | AB58: Сумма договора, руб. | AI58: Остаток суммы к получению до конца срока договора, руб. | AP58: Суть проекта/контракта с указанием объектов выполнения работ (при наличии)
A64: 10. | B64: Информация об основных поставщиках:
B65: Наименование поставщика (с указанием ИНН) | P65: Вид продукции/грузов (услуги) | AI65: Доля в формировании себестоимости, % | AP65: Срок сотрудничества
A70: 11. | B70: Информация о действующих кредитных и лизинговых договорах
B71: № | C71: Кредитная организация / лизинговая компания | J71: Вид кредита/Лизинга | N71: Дата заключения догвора | T71: Дата завершения договора | Z71: Первоначальная сумма договора руб. | AG71: Остаток задолженности, руб. | AN71: Ежемесячный платеж, руб. | AT71: Цель финансирования
B72: 1
...

Sheet ФормаОА
B1: Основные средства
B2: Вид ОС по группам (спецтехника, оборудование, здание) | C2: Количество единиц, ед. | D2: Общая остаточная стоимость, тыс. руб. | E2: Собственник
B3: Итого | C3: =SUM(C4:C6) -> 0 | D3: =SUM(D4:D6) -> 0 | E3: х
B4: ='Форма 1_Анкета клиента'!B47 -> 0 | C4: ='Форма 1_Анкета клиента'!C47 -> 0 | D4: ='Форма 1_Анкета клиента'!D47 -> 0 | E4: ='Форма 1_Анкета клиента'!E47 -> 0
B5: ='Форма 1_Анкета клиента'!B48 -> 0 | C5: ='Форма 1_Анкета клиента'!C48 -> 0 | D5: ='Форма 1_Анкета клиента'!D48 -> 0 | E5: ='Форма 1_Анкета клиента'!E48 -> 0
B6: ='Форма 1_Анкета клиента'!B49 -> 0 | C6: ='Форма 1_Анкета клиента'!C49 -> 0 | D6: ='Форма 1_Анкета клиента'!D49 -> 0 | E6: ='Форма 1_Анкета клиента'!E49 -> 0
B8: Краткая характеристика деятельности
B9: Основной вид деятельности | C9: Срок фактического осуществления деятельности, (лет) | D9: Доля в структуре выручки, % | E9: Краткая характеристика процесса
B10: ='Форма 1_Анкета клиента'!B52 -> 0 | C10: ='Форма 1_Анкета клиента'!C52 -> 0 | D10: ='Форма 1_Анкета клиента'!D52 -> 0 | E10: ='Форма 1_Анкета клиента'!E52 -> 0
B11: ='Форма 1_Анкета клиента'!B53 -> 0 | C11: ='Форма 1_Анкета клиента'!C53 -> 0 | D11: ='Форма 1_Анкета клиента'!D53 -> 0 | E11: ='Форма 1_Анкета клиента'!E53 -> 0
B12: ='Форма 1_Анкета клиента'!B54 -> 0 | C12: ='Форма 1_Анкета клиента'!C54 -> 0 | D12: ='Форма 1_Анкета клиента'!D54 -> 0 | E12: ='Форма 1_Анкета клиента'!E54 -> 0
B14: Наличие прочих видов деятельности | C14: ='Форма 1_Анкета клиента'!$B$56 -> 0
B16: Текущие договоры (контракты)
B17: Заказчик/Покупатель | C17: Дата заключения договора | D17: Дата окончания договора | E17: Сумма договора, тыс. руб. | F17: Остаток суммы к получению до конца срока договора, тыс. руб. | G17: Суть проекта/контракта с указанием объектов выполнения работ (при наличии)
B18: Итого | E18: =SUM(E19:E23) -> 0 | F18: =SUM(F19:F23) -> 0 | G18: =SUM(G19:G23) -> 0
B19: ='Форма 1_Анкета клиента'!B59 -> 0 | C19: ='Форма 1_Анкета клиента'!C59 -> 0 | D19: ='Форма 1_Анкета клиента'!D59 -> 0 | E19: ='Форма 1_Анкета клиента'!E59 -> 0 | F19: ='Форма 1_Анкета клиента'!F59 -> 0 | G19: ='Форма 1_Анкета клиента'!G59 -> 0
B20: ='Форма 1_Анкета клиента'!B60 -> 0 | C20: ='Форма 1_Анкета клиента'!C60 -> 0 | D20: ='Форма 1_Анкета клиента'!D60 -> 0 | E20: ='Форма 1_Анкета клиента'!E60 -> 0 | F20: ='Форма 1_Анкета клиента'!F60 -> 0 | G20: ='Форма 1_Анкета клиента'!G60 -> 0
B21: ='Форма 1_Анкета клиента'!B61 -> 0 | C21: ='Форма 1_Анкета клиента'!C61 -> 0 | D21: ='Форма 1_Анкета клиента'!D61 -> 0 | E21: ='Форма 1_Анкета клиента'!E61 -> 0 | F21: ='Форма 1_Анкета клиента'!F61 -> 0 | G21: ='Форма 1_Анкета клиента'!G61 -> 0
B22: ='Форма 1_Анкета клиента'!B62 -> 0 | C22: ='Форма 1_Анкета клиента'!C62 -> 0 | D22: ='Форма 1_Анкета клиента'!D62 -> 0 | E22: ='Форма 1_Анкета клиента'!E62 -> 0 | F22: ='Форма 1_Анкета клиента'!F62 -> 0 | G22: ='Форма 1_Анкета клиента'!G62 -> 0
B23: ='Форма 1_Анкета клиента'!B63 -> 0 | C23: ='Форма 1_Анкета клиента'!C63 -> 0 | D23: ='Форма 1_Анкета клиента'!D63 -> 0 | E23: ='Форма 1_Анкета клиента'!E63 -> 0 | F23: ='Форма 1_Анкета клиента'!F63 -> 0 | G23: ='Форма 1_Анкета клиента'!G63 -> 0
B25: Информация об основных поставщиках
B26: Наименование поставщика | C26: Вид продукции/грузов (услуги) | D26: Доля в формировании себестоимости, % | E26: Срок сотрудничества
B27: ='Форма 1_Анкета клиента'!B66 -> 0 | C27: ='Форма 1_Анкета клиента'!C66 -> 0 | D27: ='Форма 1_Анкета клиента'!D66 -> 0 | E27: ='Форма 1_Анкета клиента'!E66 -> 0
B28: ='Форма 1_Анкета клиента'!B67 -> 0 | C28: ='Форма 1_Анкета клиента'!C67 -> 0 | D28: ='Форма 1_Анкета клиента'!D67 -> 0 | E28: ='Форма 1_Анкета клиента'!E67 -> 0
B29: ='Форма 1_Анкета клиента'!B68 -> 0 | C29: ='Форма 1_Анкета клиента'!C68 -> 0 | D29: ='Форма 1_Анкета клиента'!D68 -> 0 | E29: ='Форма 1_Анкета клиента'!E68 -> 0
B30: ='Форма 1_Анкета клиента'!B69 -> 0 | C30: ='Форма 1_Анкета клиента'!C69 -> 0 | D30: ='Форма 1_Анкета клиента'!D69 -> 0 | E30: ='Форма 1_Анкета клиента'!E69 -> 0
A33: Кредитные и лизинговые обязательства (действующие):
A34: № | B34: Кредитная организация / лизинговая компания | C34: Вид кредита/Лизинга | D34: Дата заключения догвора | E34: Дата завершения договора | F34: Первоначальная сумма договора, тыс.руб. | G34: Остаток задолженности, тыс. руб. | H34: Ежемесячный платеж, тыс.руб. | I34: Цель финансирования
A35: Итого | F35: =SUM(F36:F58) -> 0 | G35: =SUM(G36:G58) -> 0 | H35: =SUM(H36:H58) -> 0 | I35: х
A36: 1 | B36: ='Форма 1_Анкета клиента'!C72 -> 0 | C36: ='Форма 1_Анкета клиента'!D72 -> 0 | D36: ='Форма 1_Анкета клиента'!E72 -> 0 | E36: ='Форма 1_Анкета клиента'!F72 -> 0 | F36: ='Форма 1_Анкета клиента'!G72 -> 0 | G36: ='Форма 1_Анкета клиента'!H72 -> 0 | H36: ='Форма 1_Анкета клиента'!I72 -> 0 | I36: ='Форма 1_Анкета клиента'!J72 -> 0
A37: 2 | B37: ='Форма 1_Анкета клиента'!C73 -> 0 | C37: ='Форма 1_Анкета клиента'!D73 -> 0 | D37: ='Форма 1_Анкета клиента'!E73 -> 0 | E37: ='Форма 1_Анкета клиента'!F73 -> 0 | F37: ='Форма 1_Анкета клиента'!G73 -> 0 | G37: ='Форма 1_Анкета клиента'!H73 -> 0 | H37: ='Форма 1_Анкета клиента'!I73 -> 0 | I37: ='Форма 1_Анкета клиента'!J73 -> 0
A38: 3 | B38: ='Форма 1_Анкета клиента'!C74 -> 0 | C38: ='Форма 1_Анкета клиента'!D74 -> 0 | D38: ='Форма 1_Анкета клиента'!E74 -> 0 | E38: ='Форма 1_Анкета клиента'!F74 -> 0 | F38: ='Форма 1_Анкета клиента'!G74 -> 0 | G38: ='Форма 1_Анкета клиента'!H74 -> 0 | H38: ='Форма 1_Анкета клиента'!I74 -> 0 | I38: ='Форма 1_Анкета клиента'!J74 -> 0
A39: 4 | B39: ='Форма 1_Анкета клиента'!C75 -> 0 | C39: ='Форма 1_Анкета клиента'!D75 -> 0 | D39: ='Форма 1_Анкета клиента'!E75 -> 0 | E39: ='Форма 1_Анкета клиента'!F75 -> 0 | F39: ='Форма 1_Анкета клиента'!G75 -> 0 | G39: ='Форма 1_Анкета клиента'!H75 -> 0 | H39: ='Форма 1_Анкета клиента'!I75 -> 0 | I39: ='Форма 1_Анкета клиента'!J75 -> 0
A40: 5 | B40: ='Форма 1_Анкета клиента'!C76 -> 0 | C40: ='Форма 1_Анкета клиента'!D76 -> 0 | D40: ='Форма 1_Анкета клиента'!E76 -> 0 | E40: ='Форма 1_Анкета клиента'!F76 -> 0 | F40: ='Форма 1_Анкета клиента'!G76 -> 0 | G40: ='Форма 1_Анкета клиента'!H76 -> 0 | H40: ='Форма 1_Анкета клиента'!I76 -> 0 | I40: ='Форма 1_Анкета клиента'!J76 -> 0
A41: 6 | B41: ='Форма 1_Анкета клиента'!C77 -> 0 | C41: ='Форма 1_Анкета клиента'!D77 -> 0 | D41: ='Форма 1_Анкета клиента'!E77 -> 0 | E41: ='Форма 1_Анкета клиента'!F77 -> 0 | F41: ='Форма 1_Анкета клиента'!G77 -> 0 | G41: ='Форма 1_Анкета клиента'!H77 -> 0 | H41: ='Форма 1_Анкета клиента'!I77 -> 0 | I41: ='Форма 1_Анкета клиента'!J77 -> 0
A42: 7 | B42: ='Форма 1_Анкета клиента'!C78 -> 0 | C42: ='Форма 1_Анкета клиента'!D78 -> 0 | D42: ='Форма 1_Анкета клиента'!E78 -> 0 | E42: ='Форма 1_Анкета клиента'!F78 -> 0 | F42: ='Форма 1_Анкета клиента'!G78 -> 0 | G42: ='Форма 1_Анкета клиента'!H78 -> 0 | H42: ='Форма 1_Анкета клиента'!I78 -> 0 | I42: ='Форма 1_Анкета клиента'!J78 -> 0
A43: 8 | B43: ='Форма 1_Анкета клиента'!C79 -> 0 | C43: ='Форма 1_Анкета клиента'!D79 -> 0 | D43: ='Форма 1_Анкета клиента'!E79 -> 0 | E43: ='Форма 1_Анкета клиента'!F79 -> 0 | F43: ='Форма 1_Анкета клиента'!G79 -> 0 | G43: ='Форма 1_Анкета клиента'!H79 -> 0 | H43: ='Форма 1_Анкета клиента'!I79 -> 0 | I43: ='Форма 1_Анкета клиента'!J79 -> 0
A44: 9 | B44: ='Форма 1_Анкета клиента'!C80 -> 0 | C44: ='Форма 1_Анкета клиента'!D80 -> 0 | D44: ='Форма 1_Анкета клиента'!E80 -> 0 | E44: ='Форма 1_Анкета клиента'!F80 -> 0 | F44: ='Форма 1_Анкета клиента'!G80 -> 0 | G44: ='Форма 1_Анкета клиента'!H80 -> 0 | H44: ='Форма 1_Анкета клиента'!I80 -> 0 | I44: ='Форма 1_Анкета клиента'!J80 -> 0
A45: 10 | B45: ='Форма 1_Анкета клиента'!C81 -> 0 | C45: ='Форма 1_Анкета клиента'!D81 -> 0 | D45: ='Форма 1_Анкета клиента'!E81 -> 0 | E45: ='Форма 1_Анкета клиента'!F81 -> 0 | F45: ='Форма 1_Анкета клиента'!G81 -> 0 | G45: ='Форма 1_Анкета клиента'!H81 -> 0 | H45: ='Форма 1_Анкета клиента'!I81 -> 0 | I45: ='Форма 1_Анкета клиента'!J81 -> 0
A46: 11 | B46: ='Форма 1_Анкета клиента'!C82 -> 0 | C46: ='Форма 1_Анкета клиента'!D82 -> 0 | D46: ='Форма 1_Анкета клиента'!E82 -> 0 | E46: ='Форма 1_Анкета клиента'!F82 -> 0 | F46: ='Форма 1_Анкета клиента'!G82 -> 0 | G46: ='Форма 1_Анкета клиента'!H82 -> 0 | H46: ='Форма 1_Анкета клиента'!I82 -> 0 | I46: ='Форма 1_Анкета клиента'!J82 -> 0
...
